View In:
ArcGIS JavaScript
ArcGIS Online Map Viewer
ArcGIS Earth
Service Description: IDEAM/BosqueNatural20212022
Name: IDEAM/BosqueNatural20212022
Description:
Single Fused Map Cache: false
Extent:
XMin: 439928.9039248268
YMin: 18355.785293040564
XMax: 1828521.0754823964
YMax: 1883097.1312204509
Spatial Reference: PROJCS["Transverse_Mercator",GEOGCS["GCS_Marco_Geocentrico_Nacional_de_Referencia",DATUM["D_MAGNA",SPHEROID["GRS_1980",6378137.0,298.257222101]],PRIMEM["Greenwich",0.0],UNIT["Degree",0.0174532925199433]],PROJECTION["Transverse_Mercator"],PARAMETER["False_Easting",1000000.0],PARAMETER["False_Northing",1000000.0],PARAMETER["Central_Meridian",-74.0775079166667],PARAMETER["Scale_Factor",1.0],PARAMETER["Latitude_Of_Origin",4.59620041666667],UNIT["Meter",1.0]]
Initial Extent:
XMin: 439928.9039248268
YMin: 18355.785293040564
XMax: 1828521.0754823964
YMax: 1883097.1312204509
Spatial Reference: PROJCS["Transverse_Mercator",GEOGCS["GCS_Marco_Geocentrico_Nacional_de_Referencia",DATUM["D_MAGNA",SPHEROID["GRS_1980",6378137.0,298.257222101]],PRIMEM["Greenwich",0.0],UNIT["Degree",0.0174532925199433]],PROJECTION["Transverse_Mercator"],PARAMETER["False_Easting",1000000.0],PARAMETER["False_Northing",1000000.0],PARAMETER["Central_Meridian",-74.0775079166667],PARAMETER["Scale_Factor",1.0],PARAMETER["Latitude_Of_Origin",4.59620041666667],UNIT["Meter",1.0]]
Full Extent:
XMin: 439928.9039248268
YMin: 18355.785293040564
XMax: 1828521.0754823964
YMax: 1883097.1312204509
Spatial Reference: PROJCS["Transverse_Mercator",GEOGCS["GCS_Marco_Geocentrico_Nacional_de_Referencia",DATUM["D_MAGNA",SPHEROID["GRS_1980",6378137.0,298.257222101]],PRIMEM["Greenwich",0.0],UNIT["Degree",0.0174532925199433]],PROJECTION["Transverse_Mercator"],PARAMETER["False_Easting",1000000.0],PARAMETER["False_Northing",1000000.0],PARAMETER["Central_Meridian",-74.0775079166667],PARAMETER["Scale_Factor",1.0],PARAMETER["Latitude_Of_Origin",4.59620041666667],UNIT["Meter",1.0]]
Pixel Size X: 30.7169882661056
Pixel Size Y: 30.2624409017902
Band Count: 3
Pixel Type: U8
RasterFunction Infos: {"rasterFunctionInfos": [{
"name": "None",
"description": "",
"help": ""
}]}
Mensuration Capabilities: Basic
Inspection Capabilities:
Has Histograms: false
Has Colormap: false
Has Multi Dimensions : false
Rendering Rule:
Min Scale: 0
Max Scale: 0
Copyright Text:
Service Data Type: esriImageServiceDataTypeThematic
Min Values: N/A
Max Values: N/A
Mean Values: N/A
Standard Deviation Values: N/A
Object ID Field:
Fields:
None
Default Mosaic Method: Center
Allowed Mosaic Methods:
SortField:
SortValue: null
Mosaic Operator: First
Default Compression Quality: 75
Default Resampling Method: Bilinear
Max Record Count: null
Max Image Height: 4100
Max Image Width: 15000
Max Download Image Count: null
Max Mosaic Image Count: null
Allow Raster Function: true
Allow Copy: true
Allow Analysis: true
Allow Compute TiePoints: false
Supports Statistics: false
Supports Advanced Queries: false
Use StandardizedQueries: true
Raster Type Infos:
Name: Raster Dataset
Description: Supports all ArcGIS Raster Datasets
Help:
Has Raster Attribute Table: false
Edit Fields Info: null
Ownership Based AccessControl For Rasters: null
Child Resources:
Info
Statistics
Key Properties
Legend
Raster Function Infos
Supported Operations:
Export Image
Identify
Measure
Compute Histograms
Compute Statistics Histograms
Get Samples
Compute Class Statistics
Query Boundary
Compute Pixel Location
Compute Angles
Validate
Project