{
 "currentVersion": 11.3,
 "serviceDescription": "IDEAM/BosqueNatural20212022",
 "name": "IDEAM/BosqueNatural20212022",
 "description": "",
 "extent": {
  "xmin": 439928.9039248268,
  "ymin": 18355.785293040564,
  "xmax": 1828521.0754823964,
  "ymax": 1883097.1312204509,
  "spatialReference": {
   "wkt2": "PROJCRS[\"Transverse_Mercator\",BASEGEOGCRS[\"GCS_Marco_Geocentrico_Nacional_de_Referencia\",DATUM[\"D_MAGNA\",ELLIPSOID[\"GRS_1980\",6378137.0,298.257222101,LENGTHUNIT[\"Meter\",1.0]]],PRIMEM[\"Greenwich\",0.0,ANGLEUNIT[\"Degree\",0.0174532925199433]],CS[ellipsoidal,2],ANGLEUNIT[\"Degree\",0.0174532925199433]],CONVERSION[\"Transverse_Mercator\",METHOD[\"Transverse_Mercator\"],PARAMETER[\"False_Easting\",1000000.0,LENGTHUNIT[\"Meter\",1.0]],PARAMETER[\"False_Northing\",1000000.0,LENGTHUNIT[\"Meter\",1.0]],PARAMETER[\"Central_Meridian\",-74.0775079166667,ANGLEUNIT[\"Degree\",0.0174532925199433]],PARAMETER[\"Scale_Factor\",1.0,SCALEUNIT[\"Unity\",1.0]],PARAMETER[\"Latitude_Of_Origin\",4.59620041666667,ANGLEUNIT[\"Degree\",0.0174532925199433]]],CS[Cartesian,2],AXIS[\"Easting (X)\",east,ORDER[1]],AXIS[\"Northing (Y)\",north,ORDER[2]],LENGTHUNIT[\"Meter\",1.0]]",
   "wkt": "PROJCS[\"Transverse_Mercator\",GEOGCS[\"GCS_Marco_Geocentrico_Nacional_de_Referencia\",DATUM[\"D_MAGNA\",SPHEROID[\"GRS_1980\",6378137.0,298.257222101]],PRIMEM[\"Greenwich\",0.0],UNIT[\"Degree\",0.0174532925199433]],PROJECTION[\"Transverse_Mercator\"],PARAMETER[\"False_Easting\",1000000.0],PARAMETER[\"False_Northing\",1000000.0],PARAMETER[\"Central_Meridian\",-74.0775079166667],PARAMETER[\"Scale_Factor\",1.0],PARAMETER[\"Latitude_Of_Origin\",4.59620041666667],UNIT[\"Meter\",1.0]]"
  }
 },
 "initialExtent": {
  "xmin": 439928.9039248268,
  "ymin": 18355.785293040564,
  "xmax": 1828521.0754823964,
  "ymax": 1883097.1312204509,
  "spatialReference": {
   "wkt2": "PROJCRS[\"Transverse_Mercator\",BASEGEOGCRS[\"GCS_Marco_Geocentrico_Nacional_de_Referencia\",DATUM[\"D_MAGNA\",ELLIPSOID[\"GRS_1980\",6378137.0,298.257222101,LENGTHUNIT[\"Meter\",1.0]]],PRIMEM[\"Greenwich\",0.0,ANGLEUNIT[\"Degree\",0.0174532925199433]],CS[ellipsoidal,2],ANGLEUNIT[\"Degree\",0.0174532925199433]],CONVERSION[\"Transverse_Mercator\",METHOD[\"Transverse_Mercator\"],PARAMETER[\"False_Easting\",1000000.0,LENGTHUNIT[\"Meter\",1.0]],PARAMETER[\"False_Northing\",1000000.0,LENGTHUNIT[\"Meter\",1.0]],PARAMETER[\"Central_Meridian\",-74.0775079166667,ANGLEUNIT[\"Degree\",0.0174532925199433]],PARAMETER[\"Scale_Factor\",1.0,SCALEUNIT[\"Unity\",1.0]],PARAMETER[\"Latitude_Of_Origin\",4.59620041666667,ANGLEUNIT[\"Degree\",0.0174532925199433]]],CS[Cartesian,2],AXIS[\"Easting (X)\",east,ORDER[1]],AXIS[\"Northing (Y)\",north,ORDER[2]],LENGTHUNIT[\"Meter\",1.0]]",
   "wkt": "PROJCS[\"Transverse_Mercator\",GEOGCS[\"GCS_Marco_Geocentrico_Nacional_de_Referencia\",DATUM[\"D_MAGNA\",SPHEROID[\"GRS_1980\",6378137.0,298.257222101]],PRIMEM[\"Greenwich\",0.0],UNIT[\"Degree\",0.0174532925199433]],PROJECTION[\"Transverse_Mercator\"],PARAMETER[\"False_Easting\",1000000.0],PARAMETER[\"False_Northing\",1000000.0],PARAMETER[\"Central_Meridian\",-74.0775079166667],PARAMETER[\"Scale_Factor\",1.0],PARAMETER[\"Latitude_Of_Origin\",4.59620041666667],UNIT[\"Meter\",1.0]]"
  }
 },
 "fullExtent": {
  "xmin": 439928.9039248268,
  "ymin": 18355.785293040564,
  "xmax": 1828521.0754823964,
  "ymax": 1883097.1312204509,
  "spatialReference": {
   "wkt2": "PROJCRS[\"Transverse_Mercator\",BASEGEOGCRS[\"GCS_Marco_Geocentrico_Nacional_de_Referencia\",DATUM[\"D_MAGNA\",ELLIPSOID[\"GRS_1980\",6378137.0,298.257222101,LENGTHUNIT[\"Meter\",1.0]]],PRIMEM[\"Greenwich\",0.0,ANGLEUNIT[\"Degree\",0.0174532925199433]],CS[ellipsoidal,2],ANGLEUNIT[\"Degree\",0.0174532925199433]],CONVERSION[\"Transverse_Mercator\",METHOD[\"Transverse_Mercator\"],PARAMETER[\"False_Easting\",1000000.0,LENGTHUNIT[\"Meter\",1.0]],PARAMETER[\"False_Northing\",1000000.0,LENGTHUNIT[\"Meter\",1.0]],PARAMETER[\"Central_Meridian\",-74.0775079166667,ANGLEUNIT[\"Degree\",0.0174532925199433]],PARAMETER[\"Scale_Factor\",1.0,SCALEUNIT[\"Unity\",1.0]],PARAMETER[\"Latitude_Of_Origin\",4.59620041666667,ANGLEUNIT[\"Degree\",0.0174532925199433]]],CS[Cartesian,2],AXIS[\"Easting (X)\",east,ORDER[1]],AXIS[\"Northing (Y)\",north,ORDER[2]],LENGTHUNIT[\"Meter\",1.0]]",
   "wkt": "PROJCS[\"Transverse_Mercator\",GEOGCS[\"GCS_Marco_Geocentrico_Nacional_de_Referencia\",DATUM[\"D_MAGNA\",SPHEROID[\"GRS_1980\",6378137.0,298.257222101]],PRIMEM[\"Greenwich\",0.0],UNIT[\"Degree\",0.0174532925199433]],PROJECTION[\"Transverse_Mercator\"],PARAMETER[\"False_Easting\",1000000.0],PARAMETER[\"False_Northing\",1000000.0],PARAMETER[\"Central_Meridian\",-74.0775079166667],PARAMETER[\"Scale_Factor\",1.0],PARAMETER[\"Latitude_Of_Origin\",4.59620041666667],UNIT[\"Meter\",1.0]]"
  }
 },
 "sortableFields": "",
 "bandCount": 3,
 "pixelType": "U8",
 "minValues": [],
 "maxValues": [],
 "meanValues": [],
 "stdvValues": [],
 "hasMultidimensions": false,
 "pixelSizeX": 30.7169882661056,
 "pixelSizeY": 30.2624409017902,
 "meanPixelSize": 30.4897145839479,
 "datasetFormat": "IMAGINE Image",
 "uncompressedSize": 8356645542,
 "blockWidth": 512,
 "blockHeight": 512,
 "compressionType": "RLE",
 "bandNames": [
  "Layer_1"
 ],
 "allowCopy": true,
 "allowAnalysis": true,
 "itemAccess": false,
 "inspectionCapabilities": "",
 "noDataValue": 256,
 "noDataValues": [
  256,
  256,
  256
 ],
 "minPixelSize": 0,
 "maxPixelSize": 0,
 "copyrightText": "",
 "serviceDataType": "esriImageServiceDataTypeThematic",
 "serviceSourceType": "esriImageServiceSourceTypeDataset",
 "objectIdField": "",
 "fields": [],
 "capabilities": "Image,Metadata,Mensuration",
 "defaultMosaicMethod": "Center",
 "allowedMosaicMethods": "",
 "sortField": "",
 "sortValue": null,
 "sortAscending": true,
 "mosaicOperator": "First",
 "defaultCompressionQuality": 75,
 "defaultResamplingMethod": "Bilinear",
 "maxImageHeight": 4100,
 "maxImageWidth": 15000,
 "allowRasterFunction": true,
 "rasterFunctionInfos": [
  {
   "name": "None",
   "description": "",
   "help": ""
  }
 ],
 "rasterTypeInfos": [
  {
   "name": "Raster Dataset",
   "description": "Supports all ArcGIS Raster Datasets",
   "help": ""
  }
 ],
 "mensurationCapabilities": "Basic",
 "hasHistograms": false,
 "hasColormap": false,
 "hasRasterAttributeTable": false,
 "minScale": 0,
 "maxScale": 0,
 "exportTilesAllowed": false,
 "supportsStatistics": false,
 "supportsAdvancedQueries": false,
 "editFieldsInfo": null,
 "ownershipBasedAccessControlForRasters": null,
 "allowComputeTiePoints": false,
 "useStandardizedQueries": true,
 "advancedQueryCapabilities": {
  "useStandardizedQueries": true,
  "supportsStatistics": false,
  "supportsOrderBy": false,
  "supportsDistinct": false,
  "supportsPagination": false
 },
 "spatialReference": {
  "wkt2": "PROJCRS[\"Transverse_Mercator\",BASEGEOGCRS[\"GCS_Marco_Geocentrico_Nacional_de_Referencia\",DATUM[\"D_MAGNA\",ELLIPSOID[\"GRS_1980\",6378137.0,298.257222101,LENGTHUNIT[\"Meter\",1.0]]],PRIMEM[\"Greenwich\",0.0,ANGLEUNIT[\"Degree\",0.0174532925199433]],CS[ellipsoidal,2],ANGLEUNIT[\"Degree\",0.0174532925199433]],CONVERSION[\"Transverse_Mercator\",METHOD[\"Transverse_Mercator\"],PARAMETER[\"False_Easting\",1000000.0,LENGTHUNIT[\"Meter\",1.0]],PARAMETER[\"False_Northing\",1000000.0,LENGTHUNIT[\"Meter\",1.0]],PARAMETER[\"Central_Meridian\",-74.0775079166667,ANGLEUNIT[\"Degree\",0.0174532925199433]],PARAMETER[\"Scale_Factor\",1.0,SCALEUNIT[\"Unity\",1.0]],PARAMETER[\"Latitude_Of_Origin\",4.59620041666667,ANGLEUNIT[\"Degree\",0.0174532925199433]]],CS[Cartesian,2],AXIS[\"Easting (X)\",east,ORDER[1]],AXIS[\"Northing (Y)\",north,ORDER[2]],LENGTHUNIT[\"Meter\",1.0]]",
  "wkt": "PROJCS[\"Transverse_Mercator\",GEOGCS[\"GCS_Marco_Geocentrico_Nacional_de_Referencia\",DATUM[\"D_MAGNA\",SPHEROID[\"GRS_1980\",6378137.0,298.257222101]],PRIMEM[\"Greenwich\",0.0],UNIT[\"Degree\",0.0174532925199433]],PROJECTION[\"Transverse_Mercator\"],PARAMETER[\"False_Easting\",1000000.0],PARAMETER[\"False_Northing\",1000000.0],PARAMETER[\"Central_Meridian\",-74.0775079166667],PARAMETER[\"Scale_Factor\",1.0],PARAMETER[\"Latitude_Of_Origin\",4.59620041666667],UNIT[\"Meter\",1.0]]"
 }
}
