View In:
ArcGIS JavaScript
ArcGIS Online Map Viewer
ArcGIS Earth
Service Description: Mapa_cambio_bosque_clasify_Esri_test
Name: Mapa_cambio_bosque_clasify_Esri_test
Description:
Single Fused Map Cache: false
Extent:
XMin: -8819215.2146
YMin: -477084.7477917331
XMax: -7399474.5763913095
YMax: 1411866.5491000013
Spatial Reference: 102100
(3857)
Initial Extent:
XMin: -8819215.2146
YMin: -477084.7477917331
XMax: -7399474.5763913095
YMax: 1411866.5491000013
Spatial Reference: 102100
(3857)
Full Extent:
XMin: -8819215.2146
YMin: -477084.7477917331
XMax: -7399474.5763913095
YMax: 1411866.5491000013
Spatial Reference: 102100
(3857)
Pixel Size X: 3027.165539890599
Pixel Size Y: 3027.1655398906
Band Count: 1
Pixel Type: U8
RasterFunction Infos: {"rasterFunctionInfos": [{
"name": "None",
"description": "",
"help": ""
}]}
Mensuration Capabilities:
Inspection Capabilities:
Has Histograms: true
Has Colormap: false
Has Multi Dimensions : false
Rendering Rule:
Min Scale: 0
Max Scale: 0
Copyright Text:
Service Data Type: esriImageServiceDataTypeGeneric
Min Values: 0
Max Values: 255
Mean Values: 63.482163359031
Standard Deviation Values: 92.725077001762
Object ID Field:
Fields:
None
Default Mosaic Method: Center
Allowed Mosaic Methods:
SortField:
SortValue: null
Mosaic Operator: First
Default Compression Quality: 75
Default Resampling Method: Bilinear
Max Record Count: null
Max Image Height: 4100
Max Image Width: 15000
Max Download Image Count: null
Max Mosaic Image Count: null
Allow Raster Function: true
Allow Copy: true
Allow Analysis: true
Allow Compute TiePoints: false
Supports Statistics: false
Supports Advanced Queries: false
Use StandardizedQueries: true
Raster Type Infos:
Name: Raster Dataset
Description: Supports all ArcGIS Raster Datasets
Help:
Has Raster Attribute Table: false
Edit Fields Info: null
Ownership Based AccessControl For Rasters: null
Child Resources:
Info
Histograms
Statistics
Key Properties
Legend
Raster Function Infos
Supported Operations:
Export Image
Identify
Compute Histograms
Compute Statistics Histograms
Get Samples
Compute Class Statistics
Query Boundary
Compute Pixel Location
Compute Angles
Validate
Project