View In:
ArcGIS JavaScript
ArcGIS Online Map Viewer
ArcGIS Earth
Service Description: BNB_2015_V7_160907
Name: Hosted/BNB_2015_V7_160907
Description:
Single Fused Map Cache: true
Tile Info:
- Height: 256
- Width: 256
- DPI: 96
-
Levels of Detail: 9
-
Level ID: 0
[ Start Tile, End Tile ]
- Resolution: 7747.1848021356645
- Scale: 2.9280639903367784E7
-
Level ID: 1
[ Start Tile, End Tile ]
- Resolution: 3873.5924010678323
- Scale: 1.4640319951683892E7
-
Level ID: 2
[ Start Tile, End Tile ]
- Resolution: 1936.7962005339161
- Scale: 7320159.975841946
-
Level ID: 3
[ Start Tile, End Tile ]
- Resolution: 968.3981002669581
- Scale: 3660079.987920973
-
Level ID: 4
[ Start Tile, End Tile ]
- Resolution: 484.19905013347903
- Scale: 1830039.9939604865
-
Level ID: 5
[ Start Tile, End Tile ]
- Resolution: 242.09952506673952
- Scale: 915019.9969802432
-
Level ID: 6
[ Start Tile, End Tile ]
- Resolution: 121.04976253336976
- Scale: 457509.9984901216
-
Level ID: 7
[ Start Tile, End Tile ]
- Resolution: 60.52488126668488
- Scale: 228754.9992450608
-
Level ID: 8
[ Start Tile, End Tile ]
- Resolution: 30.26244063334244
- Scale: 114377.4996225304
- Format: LERC2D
- Compression Quality: 100000.0
- LERC Error: 0.1
- Origin: X: 439928.7898644516
Y: 1883097.0180070128
- Spatial Reference: PROJCS["Marco_Geocentrico_Nacional_de_Referencia_Transverse_Mercator",GEOGCS["GCS_Marco_Geocentrico_Nacional_de_Referencia",DATUM["D_Marco_Geocentrico_Nacional_de_Referencia",SPHEROID["GRS_1980",6378137.0,298.257222101]],PRIMEM["Greenwich",0.0],UNIT["Degree",0.0174532925199433]],PROJECTION["Transverse_Mercator"],PARAMETER["false_easting",1000000.0],PARAMETER["false_northing",1000000.0],PARAMETER["central_meridian",-74.07750791666668],PARAMETER["scale_factor",1.0],PARAMETER["latitude_of_origin",4.596200416666665],UNIT["Meter",1.0]]
Storage Info:
- Storage Format: esriMapCacheStorageModeCompactV2
- Packet Size: 16
Extent:
XMin: 439928.7898644516
YMin: 18325.426180451643
XMax: 1828520.8783253694
YMax: 1883097.0180070128
Spatial Reference: PROJCS["Marco_Geocentrico_Nacional_de_Referencia_Transverse_Mercator",GEOGCS["GCS_Marco_Geocentrico_Nacional_de_Referencia",DATUM["D_Marco_Geocentrico_Nacional_de_Referencia",SPHEROID["GRS_1980",6378137.0,298.257222101]],PRIMEM["Greenwich",0.0],UNIT["Degree",0.0174532925199433]],PROJECTION["Transverse_Mercator"],PARAMETER["false_easting",1000000.0],PARAMETER["false_northing",1000000.0],PARAMETER["central_meridian",-74.07750791666668],PARAMETER["scale_factor",1.0],PARAMETER["latitude_of_origin",4.596200416666665],UNIT["Meter",1.0]]
Initial Extent:
XMin: 439928.7898644516
YMin: 18325.426180451643
XMax: 1828520.8783253694
YMax: 1883097.0180070128
Spatial Reference: PROJCS["Marco_Geocentrico_Nacional_de_Referencia_Transverse_Mercator",GEOGCS["GCS_Marco_Geocentrico_Nacional_de_Referencia",DATUM["D_Marco_Geocentrico_Nacional_de_Referencia",SPHEROID["GRS_1980",6378137.0,298.257222101]],PRIMEM["Greenwich",0.0],UNIT["Degree",0.0174532925199433]],PROJECTION["Transverse_Mercator"],PARAMETER["false_easting",1000000.0],PARAMETER["false_northing",1000000.0],PARAMETER["central_meridian",-74.07750791666668],PARAMETER["scale_factor",1.0],PARAMETER["latitude_of_origin",4.596200416666665],UNIT["Meter",1.0]]
Full Extent:
XMin: 439928.7898644516
YMin: 18325.426180451643
XMax: 1828520.8783253694
YMax: 1883097.0180070128
Spatial Reference: PROJCS["Marco_Geocentrico_Nacional_de_Referencia_Transverse_Mercator",GEOGCS["GCS_Marco_Geocentrico_Nacional_de_Referencia",DATUM["D_Marco_Geocentrico_Nacional_de_Referencia",SPHEROID["GRS_1980",6378137.0,298.257222101]],PRIMEM["Greenwich",0.0],UNIT["Degree",0.0174532925199433]],PROJECTION["Transverse_Mercator"],PARAMETER["false_easting",1000000.0],PARAMETER["false_northing",1000000.0],PARAMETER["central_meridian",-74.07750791666668],PARAMETER["scale_factor",1.0],PARAMETER["latitude_of_origin",4.596200416666665],UNIT["Meter",1.0]]
Pixel Size X: 30.26244063334244
Pixel Size Y: 30.26244063334244
Band Count: 1
Pixel Type: U4
RasterFunction Infos: {"rasterFunctionInfos": [{
"name": "None",
"description": "",
"help": ""
}]}
Mensuration Capabilities: Basic
Inspection Capabilities:
Has Histograms: true
Has Colormap: true
Has Multi Dimensions : false
Rendering Rule:
Min Scale: 0
Max Scale: 0
Copyright Text:
Service Data Type: esriImageServiceDataTypeThematic
Min Values: 1
Max Values: 3
Mean Values: 1.4898832020745798
Standard Deviation Values: 0.5234436853834732
Object ID Field:
Fields:
None
Default Mosaic Method: Center
Allowed Mosaic Methods:
SortField:
SortValue: null
Mosaic Operator: First
Default Compression Quality: 75
Default Resampling Method: Nearest
Max Record Count: null
Max Image Height: 4100
Max Image Width: 15000
Max Download Image Count: null
Max Mosaic Image Count: null
Allow Raster Function: true
Allow Copy: true
Allow Analysis: true
Allow Compute TiePoints: false
Supports Statistics: false
Supports Advanced Queries: false
Use StandardizedQueries: true
Raster Type Infos:
Name: Raster Dataset
Description: Supports all ArcGIS Raster Datasets
Help:
Has Raster Attribute Table: true
Edit Fields Info: null
Ownership Based AccessControl For Rasters: null
Child Resources:
Info
Raster Attribute Table
Histograms
Statistics
Key Properties
Color Map
Legend
Raster Function Infos
Supported Operations:
Export Image
Identify
Measure
Compute Histograms
Compute Statistics Histograms
Get Samples
Compute Class Statistics
Query Boundary
Compute Pixel Location
Compute Angles
Validate
Project