View In:
ArcGIS JavaScript
ArcGIS Online Map Viewer
ArcGIS Earth
Service Description: BNB_2010_V5_140319
Name: Hosted/BNB_2010_V5_140319
Description:
Single Fused Map Cache: true
Tile Info:
- Height: 256
- Width: 256
- DPI: 96
-
Levels of Detail: 9
-
Level ID: 0
[ Start Tile, End Tile ]
- Resolution: 7747.184870858278
- Scale: 2.9280640163106278E7
-
Level ID: 1
[ Start Tile, End Tile ]
- Resolution: 3873.592435429139
- Scale: 1.4640320081553139E7
-
Level ID: 2
[ Start Tile, End Tile ]
- Resolution: 1936.7962177145696
- Scale: 7320160.040776569
-
Level ID: 3
[ Start Tile, End Tile ]
- Resolution: 968.3981088572848
- Scale: 3660080.0203882847
-
Level ID: 4
[ Start Tile, End Tile ]
- Resolution: 484.1990544286424
- Scale: 1830040.0101941423
-
Level ID: 5
[ Start Tile, End Tile ]
- Resolution: 242.0995272143212
- Scale: 915020.0050970712
-
Level ID: 6
[ Start Tile, End Tile ]
- Resolution: 121.0497636071606
- Scale: 457510.0025485356
-
Level ID: 7
[ Start Tile, End Tile ]
- Resolution: 60.5248818035803
- Scale: 228755.0012742678
-
Level ID: 8
[ Start Tile, End Tile ]
- Resolution: 30.26244090179015
- Scale: 114377.5006371339
- Format: LERC2D
- Compression Quality: 100000.0
- LERC Error: 0.1
- Origin: X: 439928.90392482764
Y: 1883097.1312204509
- Spatial Reference: PROJCS["Marco_Geocentrico_Nacional_de_Referencia_Transverse_Mercator",GEOGCS["GCS_Marco_Geocentrico_Nacional_de_Referencia",DATUM["D_Marco_Geocentrico_Nacional_de_Referencia",SPHEROID["GRS_1980",6378137.0,298.257222101]],PRIMEM["Greenwich",0.0],UNIT["Degree",0.0174532925199433]],PROJECTION["Transverse_Mercator"],PARAMETER["false_easting",1000000.0],PARAMETER["false_northing",1000000.0],PARAMETER["central_meridian",-74.07750791666668],PARAMETER["scale_factor",1.0],PARAMETER["latitude_of_origin",4.596200416666665],UNIT["Meter",1.0]]
Storage Info:
- Storage Format: esriMapCacheStorageModeCompactV2
- Packet Size: 16
Extent:
XMin: 439928.90392482764
YMin: 18386.047733945306
XMax: 1828490.742262567
YMax: 1883097.1312204509
Spatial Reference: PROJCS["Marco_Geocentrico_Nacional_de_Referencia_Transverse_Mercator",GEOGCS["GCS_Marco_Geocentrico_Nacional_de_Referencia",DATUM["D_Marco_Geocentrico_Nacional_de_Referencia",SPHEROID["GRS_1980",6378137.0,298.257222101]],PRIMEM["Greenwich",0.0],UNIT["Degree",0.0174532925199433]],PROJECTION["Transverse_Mercator"],PARAMETER["false_easting",1000000.0],PARAMETER["false_northing",1000000.0],PARAMETER["central_meridian",-74.07750791666668],PARAMETER["scale_factor",1.0],PARAMETER["latitude_of_origin",4.596200416666665],UNIT["Meter",1.0]]
Initial Extent:
XMin: 439928.90392482764
YMin: 18386.047733945306
XMax: 1828490.742262567
YMax: 1883097.1312204509
Spatial Reference: PROJCS["Marco_Geocentrico_Nacional_de_Referencia_Transverse_Mercator",GEOGCS["GCS_Marco_Geocentrico_Nacional_de_Referencia",DATUM["D_Marco_Geocentrico_Nacional_de_Referencia",SPHEROID["GRS_1980",6378137.0,298.257222101]],PRIMEM["Greenwich",0.0],UNIT["Degree",0.0174532925199433]],PROJECTION["Transverse_Mercator"],PARAMETER["false_easting",1000000.0],PARAMETER["false_northing",1000000.0],PARAMETER["central_meridian",-74.07750791666668],PARAMETER["scale_factor",1.0],PARAMETER["latitude_of_origin",4.596200416666665],UNIT["Meter",1.0]]
Full Extent:
XMin: 439928.90392482764
YMin: 18386.047733945306
XMax: 1828490.742262567
YMax: 1883097.1312204509
Spatial Reference: PROJCS["Marco_Geocentrico_Nacional_de_Referencia_Transverse_Mercator",GEOGCS["GCS_Marco_Geocentrico_Nacional_de_Referencia",DATUM["D_Marco_Geocentrico_Nacional_de_Referencia",SPHEROID["GRS_1980",6378137.0,298.257222101]],PRIMEM["Greenwich",0.0],UNIT["Degree",0.0174532925199433]],PROJECTION["Transverse_Mercator"],PARAMETER["false_easting",1000000.0],PARAMETER["false_northing",1000000.0],PARAMETER["central_meridian",-74.07750791666668],PARAMETER["scale_factor",1.0],PARAMETER["latitude_of_origin",4.596200416666665],UNIT["Meter",1.0]]
Pixel Size X: 30.26244090179015
Pixel Size Y: 30.26244090179015
Band Count: 1
Pixel Type: U4
RasterFunction Infos: {"rasterFunctionInfos": [{
"name": "None",
"description": "",
"help": ""
}]}
Mensuration Capabilities: Basic
Inspection Capabilities:
Has Histograms: true
Has Colormap: true
Has Multi Dimensions : false
Rendering Rule:
Min Scale: 0
Max Scale: 0
Copyright Text:
Service Data Type: esriImageServiceDataTypeThematic
Min Values: 1
Max Values: 15
Mean Values: 2.392461358844089
Standard Deviation Values: 3.4269392519233532
Object ID Field:
Fields:
None
Default Mosaic Method: Center
Allowed Mosaic Methods:
SortField:
SortValue: null
Mosaic Operator: First
Default Compression Quality: 75
Default Resampling Method: Nearest
Max Record Count: null
Max Image Height: 4100
Max Image Width: 15000
Max Download Image Count: null
Max Mosaic Image Count: null
Allow Raster Function: true
Allow Copy: true
Allow Analysis: true
Allow Compute TiePoints: false
Supports Statistics: false
Supports Advanced Queries: false
Use StandardizedQueries: true
Raster Type Infos:
Name: Raster Dataset
Description: Supports all ArcGIS Raster Datasets
Help:
Has Raster Attribute Table: true
Edit Fields Info: null
Ownership Based AccessControl For Rasters: null
Child Resources:
Info
Raster Attribute Table
Histograms
Statistics
Key Properties
Color Map
Legend
Raster Function Infos
Supported Operations:
Export Image
Identify
Measure
Compute Histograms
Compute Statistics Histograms
Get Samples
Compute Class Statistics
Query Boundary
Compute Pixel Location
Compute Angles
Validate
Project