View In:
ArcGIS JavaScript
ArcGIS Online Map Viewer
ArcGIS Earth
Service Description: CIMA/ZONIFICACION_AMBIENTAL_POMCA
Name: CIMA/ZONIFICACION_AMBIENTAL_POMCA
Description:
Single Fused Map Cache: false
Extent:
XMin: -8684446.279719826
YMin: 80244.76479600517
XMax: -7501659.100261511
YMax: 1293580.9208323462
Spatial Reference: 102100
(3857)
Initial Extent:
XMin: -8684446.279719826
YMin: 80244.76479600517
XMax: -7501659.100261511
YMax: 1293580.9208323462
Spatial Reference: 102100
(3857)
Full Extent:
XMin: -8684446.279719826
YMin: 80244.76479600517
XMax: -7501659.100261511
YMax: 1293580.9208323462
Spatial Reference: 102100
(3857)
Pixel Size X: 20.373211717278394
Pixel Size Y: 20.2875274806685
Band Count: 1
Pixel Type: U8
RasterFunction Infos: {"rasterFunctionInfos": [
{
"name": "TemplateRasterAttributefinal",
"description": "A raster function template.",
"help": ""
},
{
"name": "None",
"description": "Make a Raster or Raster Dataset into a Function Raster Dataset.",
"help": ""
}
]}
Mensuration Capabilities: Basic
Inspection Capabilities:
Has Histograms: true
Has Colormap: false
Has Multi Dimensions : false
Rendering Rule:
Min Scale: 0
Max Scale: 0
Copyright Text:
Service Data Type: esriImageServiceDataTypeGeneric
Min Values: 1
Max Values: 13
Mean Values: 5.47698241804132
Standard Deviation Values: 3.235931452900706
Object ID Field:
Fields:
None
Default Mosaic Method: Center
Allowed Mosaic Methods:
SortField:
SortValue: null
Mosaic Operator: First
Default Compression Quality: 75
Default Resampling Method: Nearest
Max Record Count: null
Max Image Height: 4100
Max Image Width: 15000
Max Download Image Count: null
Max Mosaic Image Count: null
Allow Raster Function: true
Allow Copy: true
Allow Analysis: true
Allow Compute TiePoints: false
Supports Statistics: false
Supports Advanced Queries: false
Use StandardizedQueries: true
Raster Type Infos:
Name: Raster Dataset
Description: Supports all ArcGIS Raster Datasets
Help:
Has Raster Attribute Table: false
Edit Fields Info: null
Ownership Based AccessControl For Rasters: null
Child Resources:
Info
Histograms
Statistics
Key Properties
Legend
Raster Function Infos
Supported Operations:
Export Image
Identify
Measure
Compute Histograms
Compute Statistics Histograms
Get Samples
Compute Class Statistics
Query Boundary
Compute Pixel Location
Compute Angles
Validate
Project