{
 "currentVersion": 11.3,
 "cimVersion": "3.3.0",
 "serviceDescription": "",
 "mapName": "PCA_Zon_Ambiental_POMCA",
 "description": "",
 "copyrightText": "",
 "supportsDynamicLayers": true,
 "layers": [
  {
   "id": 4,
   "name": "Zonificación Ambiental POMCA",
   "parentLayerId": -1,
   "defaultVisibility": true,
   "subLayerIds": null,
   "minScale": 10000000,
   "maxScale": 1000,
   "type": "Feature Layer",
   "geometryType": "esriGeometryPolygon",
   "supportsDynamicLegends": true
  }
 ],
 "tables": [],
 "spatialReference": {
  "wkid": 4686,
  "latestWkid": 4686,
  "xyTolerance": 8.983152841195213E-9,
  "zTolerance": 0.001,
  "mTolerance": 0.001,
  "falseX": -400,
  "falseY": -400,
  "xyUnits": 9.999999999999999E8,
  "falseZ": -100000,
  "zUnits": 10000,
  "falseM": -100000,
  "mUnits": 10000
 },
 "singleFusedMapCache": true,
 "tileInfo": {
  "rows": 256,
  "cols": 256,
  "dpi": 96,
  "format": "PNG",
  "compressionQuality": 0,
  "origin": {
   "x": -179.99999999999983,
   "y": 179.99999999999983
  },
  "spatialReference": {
   "wkid": 4686,
   "latestWkid": 4686,
   "xyTolerance": 8.983152841195213E-9,
   "zTolerance": 0.001,
   "mTolerance": 0.001,
   "falseX": -400,
   "falseY": -400,
   "xyUnits": 9.999999999999999E8,
   "falseZ": -100000,
   "zUnits": 10000,
   "falseM": -100000,
   "mUnits": 10000
  },
  "lods": [
   {
    "level": 0,
    "resolution": 1.4062499999999987,
    "scale": 5.916587109091305E8
   },
   {
    "level": 1,
    "resolution": 0.7031249999999993,
    "scale": 2.958293554545652E8
   },
   {
    "level": 2,
    "resolution": 0.35156249999999967,
    "scale": 1.479146777272826E8
   },
   {
    "level": 3,
    "resolution": 0.17578124999999983,
    "scale": 7.39573388636413E7
   },
   {
    "level": 4,
    "resolution": 0.08789062499999992,
    "scale": 3.697866943182065E7
   },
   {
    "level": 5,
    "resolution": 0.04394531249999996,
    "scale": 1.8489334715910327E7
   },
   {
    "level": 6,
    "resolution": 0.02197265624999998,
    "scale": 9244667.357955163
   },
   {
    "level": 7,
    "resolution": 0.01098632812499999,
    "scale": 4622333.678977582
   },
   {
    "level": 8,
    "resolution": 0.005493164062499995,
    "scale": 2311166.839488791
   },
   {
    "level": 9,
    "resolution": 0.0027465820312499974,
    "scale": 1155583.4197443954
   },
   {
    "level": 10,
    "resolution": 0.0013732910156249987,
    "scale": 577791.7098721977
   },
   {
    "level": 11,
    "resolution": 6.866455078124993E-4,
    "scale": 288895.85493609885
   },
   {
    "level": 12,
    "resolution": 3.433227539062497E-4,
    "scale": 144447.92746804943
   },
   {
    "level": 13,
    "resolution": 1.7166137695312484E-4,
    "scale": 72223.96373402471
   },
   {
    "level": 14,
    "resolution": 8.583068847656242E-5,
    "scale": 36111.98186701236
   },
   {
    "level": 15,
    "resolution": 4.291534423828121E-5,
    "scale": 18055.99093350618
   },
   {
    "level": 16,
    "resolution": 2.1457672119140605E-5,
    "scale": 9027.99546675309
   },
   {
    "level": 17,
    "resolution": 1.0728836059570302E-5,
    "scale": 4513.997733376545
   },
   {
    "level": 18,
    "resolution": 5.364418029785151E-6,
    "scale": 2256.9988666882723
   }
  ]
 },
 "storageInfo": {
  "storageFormat": "esriMapCacheStorageModeCompactV2",
  "packetSize": 128
 },
 "initialExtent": {
  "xmin": -92.83108192498618,
  "ymin": -9.252168574857205,
  "xmax": -54.2984444838675,
  "ymax": 19.868351652664753,
  "spatialReference": {
   "cs": "gcs",
   "wkid": 4686
  }
 },
 "fullExtent": {
  "xmin": -77.93517960899999,
  "ymin": 0.7242398080000498,
  "xmax": -67.48350298699995,
  "ymax": 11.539422497000032,
  "spatialReference": {
   "cs": "gcs",
   "wkid": 4686
  }
 },
 "datesInUnknownTimezone": false,
 "minScale": 1.8489334715910327E7,
 "maxScale": 144447.92746804943,
 "units": "esriDecimalDegrees",
 "supportedImageFormatTypes": "PNG32,PNG24,PNG,JPG,DIB,TIFF,EMF,PS,PDF,GIF,SVG,SVGZ,BMP",
 "documentInfo": {
  "Title": "Map",
  "Author": "",
  "Comments": "",
  "Subject": "",
  "Category": "",
  "Version": "3.3.0",
  "AntialiasingMode": "Fast",
  "TextAntialiasingMode": "Force",
  "Keywords": "RH,Zonificaci{on ambiental,POMCA,MADS"
 },
 "supportsQueryDomains": true,
 "capabilities": "Map,Query,Data",
 "supportedQueryFormats": "JSON, geoJSON, PBF",
 "exportTilesAllowed": false,
 "referenceScale": 0.0,
 "datumTransformations": [
  {
   "geoTransforms": [
    {
     "wkid": 15738,
     "latestWkid": 15738,
     "transformForward": false,
     "name": "MAGNA_To_WGS_1984_1"
    }
   ]
  },
  {
   "geoTransforms": [
    {
     "wkid": 15738,
     "latestWkid": 15738,
     "transformForward": true,
     "name": "MAGNA_To_WGS_1984_1"
    }
   ]
  }
 ],
 "supportsDatumTransformation": true,
 "archivingInfo": {
  "supportsHistoricMoment": false
 },
 "supportsClipping": true,
 "supportsSpatialFilter": true,
 "supportsTimeRelation": true,
 "supportsQueryDataElements": true,
 "mapUnits": {
  "uwkid": 9102
 },
 "maxRecordCount": 2000,
 "maxImageHeight": 4096,
 "maxImageWidth": 4096,
 "supportedExtensions": "WMSServer",
 "resampling": false,
 "serviceItemId": "4ae91b135bd94f1ea01a417dceb886c2"
}
