{
 "currentVersion": 11.3,
 "serviceDescription": "CAMBIO_2010_2012_V5_140319_3116",
 "name": "Hosted/CAMBIO_2010_2012_V5_140319_3116",
 "description": "",
 "extent": {
  "xmin": 439928.78986444994,
  "ymin": 18325.409638838144,
  "xmax": 1828520.890643091,
  "ymax": 1883097.018007147,
  "spatialReference": {
   "wkt2": "PROJCRS[\"Marco_Geocentrico_Nacional_de_Referencia_Transverse_Mercator\",BASEGEOGCRS[\"GCS_Marco_Geocentrico_Nacional_de_Referencia\",DATUM[\"D_Marco_Geocentrico_Nacional_de_Referencia\",ELLIPSOID[\"GRS_1980\",6378137.0,298.257222101,LENGTHUNIT[\"Meter\",1.0]]],PRIMEM[\"Greenwich\",0.0,ANGLEUNIT[\"Degree\",0.0174532925199433]],CS[ellipsoidal,2],ANGLEUNIT[\"Degree\",0.0174532925199433]],CONVERSION[\"Transverse_Mercator\",METHOD[\"Transverse_Mercator\"],PARAMETER[\"false_easting\",1000000.0,LENGTHUNIT[\"Meter\",1.0]],PARAMETER[\"false_northing\",1000000.0,LENGTHUNIT[\"Meter\",1.0]],PARAMETER[\"central_meridian\",-74.07750791666668,ANGLEUNIT[\"Degree\",0.0174532925199433]],PARAMETER[\"scale_factor\",1.0,SCALEUNIT[\"Unity\",1.0]],PARAMETER[\"latitude_of_origin\",4.596200416666665,ANGLEUNIT[\"Degree\",0.0174532925199433]]],CS[Cartesian,2],AXIS[\"Easting (X)\",east,ORDER[1]],AXIS[\"Northing (Y)\",north,ORDER[2]],LENGTHUNIT[\"Meter\",1.0]]",
   "wkt": "PROJCS[\"Marco_Geocentrico_Nacional_de_Referencia_Transverse_Mercator\",GEOGCS[\"GCS_Marco_Geocentrico_Nacional_de_Referencia\",DATUM[\"D_Marco_Geocentrico_Nacional_de_Referencia\",SPHEROID[\"GRS_1980\",6378137.0,298.257222101]],PRIMEM[\"Greenwich\",0.0],UNIT[\"Degree\",0.0174532925199433]],PROJECTION[\"Transverse_Mercator\"],PARAMETER[\"false_easting\",1000000.0],PARAMETER[\"false_northing\",1000000.0],PARAMETER[\"central_meridian\",-74.07750791666668],PARAMETER[\"scale_factor\",1.0],PARAMETER[\"latitude_of_origin\",4.596200416666665],UNIT[\"Meter\",1.0]]"
  }
 },
 "initialExtent": {
  "xmin": 439928.78986444994,
  "ymin": 18325.409638838144,
  "xmax": 1828520.890643091,
  "ymax": 1883097.018007147,
  "spatialReference": {
   "wkt2": "PROJCRS[\"Marco_Geocentrico_Nacional_de_Referencia_Transverse_Mercator\",BASEGEOGCRS[\"GCS_Marco_Geocentrico_Nacional_de_Referencia\",DATUM[\"D_Marco_Geocentrico_Nacional_de_Referencia\",ELLIPSOID[\"GRS_1980\",6378137.0,298.257222101,LENGTHUNIT[\"Meter\",1.0]]],PRIMEM[\"Greenwich\",0.0,ANGLEUNIT[\"Degree\",0.0174532925199433]],CS[ellipsoidal,2],ANGLEUNIT[\"Degree\",0.0174532925199433]],CONVERSION[\"Transverse_Mercator\",METHOD[\"Transverse_Mercator\"],PARAMETER[\"false_easting\",1000000.0,LENGTHUNIT[\"Meter\",1.0]],PARAMETER[\"false_northing\",1000000.0,LENGTHUNIT[\"Meter\",1.0]],PARAMETER[\"central_meridian\",-74.07750791666668,ANGLEUNIT[\"Degree\",0.0174532925199433]],PARAMETER[\"scale_factor\",1.0,SCALEUNIT[\"Unity\",1.0]],PARAMETER[\"latitude_of_origin\",4.596200416666665,ANGLEUNIT[\"Degree\",0.0174532925199433]]],CS[Cartesian,2],AXIS[\"Easting (X)\",east,ORDER[1]],AXIS[\"Northing (Y)\",north,ORDER[2]],LENGTHUNIT[\"Meter\",1.0]]",
   "wkt": "PROJCS[\"Marco_Geocentrico_Nacional_de_Referencia_Transverse_Mercator\",GEOGCS[\"GCS_Marco_Geocentrico_Nacional_de_Referencia\",DATUM[\"D_Marco_Geocentrico_Nacional_de_Referencia\",SPHEROID[\"GRS_1980\",6378137.0,298.257222101]],PRIMEM[\"Greenwich\",0.0],UNIT[\"Degree\",0.0174532925199433]],PROJECTION[\"Transverse_Mercator\"],PARAMETER[\"false_easting\",1000000.0],PARAMETER[\"false_northing\",1000000.0],PARAMETER[\"central_meridian\",-74.07750791666668],PARAMETER[\"scale_factor\",1.0],PARAMETER[\"latitude_of_origin\",4.596200416666665],UNIT[\"Meter\",1.0]]"
  }
 },
 "fullExtent": {
  "xmin": 439928.78986444994,
  "ymin": 18325.409638838144,
  "xmax": 1828520.890643091,
  "ymax": 1883097.018007147,
  "spatialReference": {
   "wkt2": "PROJCRS[\"Marco_Geocentrico_Nacional_de_Referencia_Transverse_Mercator\",BASEGEOGCRS[\"GCS_Marco_Geocentrico_Nacional_de_Referencia\",DATUM[\"D_Marco_Geocentrico_Nacional_de_Referencia\",ELLIPSOID[\"GRS_1980\",6378137.0,298.257222101,LENGTHUNIT[\"Meter\",1.0]]],PRIMEM[\"Greenwich\",0.0,ANGLEUNIT[\"Degree\",0.0174532925199433]],CS[ellipsoidal,2],ANGLEUNIT[\"Degree\",0.0174532925199433]],CONVERSION[\"Transverse_Mercator\",METHOD[\"Transverse_Mercator\"],PARAMETER[\"false_easting\",1000000.0,LENGTHUNIT[\"Meter\",1.0]],PARAMETER[\"false_northing\",1000000.0,LENGTHUNIT[\"Meter\",1.0]],PARAMETER[\"central_meridian\",-74.07750791666668,ANGLEUNIT[\"Degree\",0.0174532925199433]],PARAMETER[\"scale_factor\",1.0,SCALEUNIT[\"Unity\",1.0]],PARAMETER[\"latitude_of_origin\",4.596200416666665,ANGLEUNIT[\"Degree\",0.0174532925199433]]],CS[Cartesian,2],AXIS[\"Easting (X)\",east,ORDER[1]],AXIS[\"Northing (Y)\",north,ORDER[2]],LENGTHUNIT[\"Meter\",1.0]]",
   "wkt": "PROJCS[\"Marco_Geocentrico_Nacional_de_Referencia_Transverse_Mercator\",GEOGCS[\"GCS_Marco_Geocentrico_Nacional_de_Referencia\",DATUM[\"D_Marco_Geocentrico_Nacional_de_Referencia\",SPHEROID[\"GRS_1980\",6378137.0,298.257222101]],PRIMEM[\"Greenwich\",0.0],UNIT[\"Degree\",0.0174532925199433]],PROJECTION[\"Transverse_Mercator\"],PARAMETER[\"false_easting\",1000000.0],PARAMETER[\"false_northing\",1000000.0],PARAMETER[\"central_meridian\",-74.07750791666668],PARAMETER[\"scale_factor\",1.0],PARAMETER[\"latitude_of_origin\",4.596200416666665],UNIT[\"Meter\",1.0]]"
  }
 },
 "sortableFields": "",
 "bandCount": 1,
 "pixelType": "U4",
 "minValues": [
  1
 ],
 "maxValues": [
  5
 ],
 "meanValues": [
  2.8552524252033886
 ],
 "stdvValues": [
  1.971264125746298
 ],
 "hasMultidimensions": false,
 "pixelSizeX": 30.262440901790146,
 "pixelSizeY": 30.262440901790146,
 "meanPixelSize": 30.262440901790146,
 "datasetFormat": "Cache/LERC2D",
 "uncompressedSize": 1413716850,
 "blockWidth": 256,
 "blockHeight": 256,
 "compressionType": "LERC2D",
 "bandNames": [
  "Band_1"
 ],
 "allowCopy": true,
 "allowAnalysis": true,
 "itemAccess": false,
 "inspectionCapabilities": "",
 "noDataValue": 0,
 "noDataValues": [
  0
 ],
 "minPixelSize": 0,
 "maxPixelSize": 0,
 "copyrightText": "",
 "serviceDataType": "esriImageServiceDataTypeThematic",
 "serviceSourceType": "esriImageServiceSourceTypeDataset",
 "objectIdField": "",
 "fields": [],
 "capabilities": "Image,Mensuration,Metadata",
 "defaultMosaicMethod": "Center",
 "allowedMosaicMethods": "",
 "sortField": "",
 "sortValue": null,
 "sortAscending": true,
 "mosaicOperator": "First",
 "defaultCompressionQuality": 75,
 "defaultResamplingMethod": "Nearest",
 "maxImageHeight": 4100,
 "maxImageWidth": 15000,
 "singleFusedMapCache": true,
 "tileInfo": {
  "rows": 256,
  "cols": 256,
  "dpi": 96,
  "format": "LERC2D",
  "compressionQuality": 100000,
  "lercError": 0.1,
  "origin": {
   "x": 439928.78986444994,
   "y": 1883097.018007147
  },
  "spatialReference": {
   "wkt2": "PROJCRS[\"Marco_Geocentrico_Nacional_de_Referencia_Transverse_Mercator\",BASEGEOGCRS[\"GCS_Marco_Geocentrico_Nacional_de_Referencia\",DATUM[\"D_Marco_Geocentrico_Nacional_de_Referencia\",ELLIPSOID[\"GRS_1980\",6378137.0,298.257222101,LENGTHUNIT[\"Meter\",1.0]]],PRIMEM[\"Greenwich\",0.0,ANGLEUNIT[\"Degree\",0.0174532925199433]],CS[ellipsoidal,2],ANGLEUNIT[\"Degree\",0.0174532925199433]],CONVERSION[\"Transverse_Mercator\",METHOD[\"Transverse_Mercator\"],PARAMETER[\"false_easting\",1000000.0,LENGTHUNIT[\"Meter\",1.0]],PARAMETER[\"false_northing\",1000000.0,LENGTHUNIT[\"Meter\",1.0]],PARAMETER[\"central_meridian\",-74.07750791666668,ANGLEUNIT[\"Degree\",0.0174532925199433]],PARAMETER[\"scale_factor\",1.0,SCALEUNIT[\"Unity\",1.0]],PARAMETER[\"latitude_of_origin\",4.596200416666665,ANGLEUNIT[\"Degree\",0.0174532925199433]]],CS[Cartesian,2],AXIS[\"Easting (X)\",east,ORDER[1]],AXIS[\"Northing (Y)\",north,ORDER[2]],LENGTHUNIT[\"Meter\",1.0]]",
   "wkt": "PROJCS[\"Marco_Geocentrico_Nacional_de_Referencia_Transverse_Mercator\",GEOGCS[\"GCS_Marco_Geocentrico_Nacional_de_Referencia\",DATUM[\"D_Marco_Geocentrico_Nacional_de_Referencia\",SPHEROID[\"GRS_1980\",6378137.0,298.257222101]],PRIMEM[\"Greenwich\",0.0],UNIT[\"Degree\",0.0174532925199433]],PROJECTION[\"Transverse_Mercator\"],PARAMETER[\"false_easting\",1000000.0],PARAMETER[\"false_northing\",1000000.0],PARAMETER[\"central_meridian\",-74.07750791666668],PARAMETER[\"scale_factor\",1.0],PARAMETER[\"latitude_of_origin\",4.596200416666665],UNIT[\"Meter\",1.0]]"
  },
  "lods": [
   {
    "level": 0,
    "resolution": 7747.1848708582775,
    "scale": 2.9280640163106274E7
   },
   {
    "level": 1,
    "resolution": 3873.5924354291387,
    "scale": 1.4640320081553137E7
   },
   {
    "level": 2,
    "resolution": 1936.7962177145694,
    "scale": 7320160.040776568
   },
   {
    "level": 3,
    "resolution": 968.3981088572847,
    "scale": 3660080.020388284
   },
   {
    "level": 4,
    "resolution": 484.19905442864234,
    "scale": 1830040.010194142
   },
   {
    "level": 5,
    "resolution": 242.09952721432117,
    "scale": 915020.005097071
   },
   {
    "level": 6,
    "resolution": 121.04976360716059,
    "scale": 457510.0025485355
   },
   {
    "level": 7,
    "resolution": 60.52488180358029,
    "scale": 228755.00127426776
   },
   {
    "level": 8,
    "resolution": 30.262440901790146,
    "scale": 114377.50063713388
   }
  ]
 },
 "storageInfo": {
  "storageFormat": "esriMapCacheStorageModeCompactV2",
  "packetSize": 16
 },
 "cacheType": "Raster",
 "allowRasterFunction": true,
 "rasterFunctionInfos": [
  {
   "name": "None",
   "description": "",
   "help": ""
  }
 ],
 "rasterTypeInfos": [
  {
   "name": "Raster Dataset",
   "description": "Supports all ArcGIS Raster Datasets",
   "help": ""
  }
 ],
 "mensurationCapabilities": "Basic",
 "hasHistograms": true,
 "hasColormap": true,
 "hasRasterAttributeTable": true,
 "minScale": 0,
 "maxScale": 0,
 "exportTilesAllowed": false,
 "supportsStatistics": false,
 "supportsAdvancedQueries": false,
 "editFieldsInfo": null,
 "ownershipBasedAccessControlForRasters": null,
 "allowComputeTiePoints": false,
 "useStandardizedQueries": true,
 "advancedQueryCapabilities": {
  "useStandardizedQueries": true,
  "supportsStatistics": false,
  "supportsOrderBy": false,
  "supportsDistinct": false,
  "supportsPagination": false
 },
 "spatialReference": {
  "wkt2": "PROJCRS[\"Marco_Geocentrico_Nacional_de_Referencia_Transverse_Mercator\",BASEGEOGCRS[\"GCS_Marco_Geocentrico_Nacional_de_Referencia\",DATUM[\"D_Marco_Geocentrico_Nacional_de_Referencia\",ELLIPSOID[\"GRS_1980\",6378137.0,298.257222101,LENGTHUNIT[\"Meter\",1.0]]],PRIMEM[\"Greenwich\",0.0,ANGLEUNIT[\"Degree\",0.0174532925199433]],CS[ellipsoidal,2],ANGLEUNIT[\"Degree\",0.0174532925199433]],CONVERSION[\"Transverse_Mercator\",METHOD[\"Transverse_Mercator\"],PARAMETER[\"false_easting\",1000000.0,LENGTHUNIT[\"Meter\",1.0]],PARAMETER[\"false_northing\",1000000.0,LENGTHUNIT[\"Meter\",1.0]],PARAMETER[\"central_meridian\",-74.07750791666668,ANGLEUNIT[\"Degree\",0.0174532925199433]],PARAMETER[\"scale_factor\",1.0,SCALEUNIT[\"Unity\",1.0]],PARAMETER[\"latitude_of_origin\",4.596200416666665,ANGLEUNIT[\"Degree\",0.0174532925199433]]],CS[Cartesian,2],AXIS[\"Easting (X)\",east,ORDER[1]],AXIS[\"Northing (Y)\",north,ORDER[2]],LENGTHUNIT[\"Meter\",1.0]]",
  "wkt": "PROJCS[\"Marco_Geocentrico_Nacional_de_Referencia_Transverse_Mercator\",GEOGCS[\"GCS_Marco_Geocentrico_Nacional_de_Referencia\",DATUM[\"D_Marco_Geocentrico_Nacional_de_Referencia\",SPHEROID[\"GRS_1980\",6378137.0,298.257222101]],PRIMEM[\"Greenwich\",0.0],UNIT[\"Degree\",0.0174532925199433]],PROJECTION[\"Transverse_Mercator\"],PARAMETER[\"false_easting\",1000000.0],PARAMETER[\"false_northing\",1000000.0],PARAMETER[\"central_meridian\",-74.07750791666668],PARAMETER[\"scale_factor\",1.0],PARAMETER[\"latitude_of_origin\",4.596200416666665],UNIT[\"Meter\",1.0]]"
 }
}
