{
 "currentVersion": 11.3,
 "serviceDescription": "BNB_2020_V8_210702",
 "name": "Hosted/BNB_2020_V8_210702",
 "description": "",
 "extent": {
  "xmin": 439928.90392482694,
  "ymin": 18386.04773394228,
  "xmax": 1828490.7422625686,
  "ymax": 1883097.1312204509,
  "spatialReference": {
   "wkt2": "PROJCRS[\"Marco_Geocentrico_Nacional_de_Referencia_Transverse_Mercator\",BASEGEOGCRS[\"GCS_Marco_Geocentrico_Nacional_de_Referencia\",DATUM[\"D_Marco_Geocentrico_Nacional_de_Referencia\",ELLIPSOID[\"GRS_1980\",6378137.0,298.257222101,LENGTHUNIT[\"Meter\",1.0]]],PRIMEM[\"Greenwich\",0.0,ANGLEUNIT[\"Degree\",0.0174532925199433]],CS[ellipsoidal,2],ANGLEUNIT[\"Degree\",0.0174532925199433]],CONVERSION[\"Transverse_Mercator\",METHOD[\"Transverse_Mercator\"],PARAMETER[\"false_easting\",1000000.0,LENGTHUNIT[\"Meter\",1.0]],PARAMETER[\"false_northing\",1000000.0,LENGTHUNIT[\"Meter\",1.0]],PARAMETER[\"central_meridian\",-74.07750791666668,ANGLEUNIT[\"Degree\",0.0174532925199433]],PARAMETER[\"scale_factor\",1.0,SCALEUNIT[\"Unity\",1.0]],PARAMETER[\"latitude_of_origin\",4.596200416666665,ANGLEUNIT[\"Degree\",0.0174532925199433]]],CS[Cartesian,2],AXIS[\"Easting (X)\",east,ORDER[1]],AXIS[\"Northing (Y)\",north,ORDER[2]],LENGTHUNIT[\"Meter\",1.0]]",
   "wkt": "PROJCS[\"Marco_Geocentrico_Nacional_de_Referencia_Transverse_Mercator\",GEOGCS[\"GCS_Marco_Geocentrico_Nacional_de_Referencia\",DATUM[\"D_Marco_Geocentrico_Nacional_de_Referencia\",SPHEROID[\"GRS_1980\",6378137.0,298.257222101]],PRIMEM[\"Greenwich\",0.0],UNIT[\"Degree\",0.0174532925199433]],PROJECTION[\"Transverse_Mercator\"],PARAMETER[\"false_easting\",1000000.0],PARAMETER[\"false_northing\",1000000.0],PARAMETER[\"central_meridian\",-74.07750791666668],PARAMETER[\"scale_factor\",1.0],PARAMETER[\"latitude_of_origin\",4.596200416666665],UNIT[\"Meter\",1.0]]"
  }
 },
 "initialExtent": {
  "xmin": 439928.90392482694,
  "ymin": 18386.04773394228,
  "xmax": 1828490.7422625686,
  "ymax": 1883097.1312204509,
  "spatialReference": {
   "wkt2": "PROJCRS[\"Marco_Geocentrico_Nacional_de_Referencia_Transverse_Mercator\",BASEGEOGCRS[\"GCS_Marco_Geocentrico_Nacional_de_Referencia\",DATUM[\"D_Marco_Geocentrico_Nacional_de_Referencia\",ELLIPSOID[\"GRS_1980\",6378137.0,298.257222101,LENGTHUNIT[\"Meter\",1.0]]],PRIMEM[\"Greenwich\",0.0,ANGLEUNIT[\"Degree\",0.0174532925199433]],CS[ellipsoidal,2],ANGLEUNIT[\"Degree\",0.0174532925199433]],CONVERSION[\"Transverse_Mercator\",METHOD[\"Transverse_Mercator\"],PARAMETER[\"false_easting\",1000000.0,LENGTHUNIT[\"Meter\",1.0]],PARAMETER[\"false_northing\",1000000.0,LENGTHUNIT[\"Meter\",1.0]],PARAMETER[\"central_meridian\",-74.07750791666668,ANGLEUNIT[\"Degree\",0.0174532925199433]],PARAMETER[\"scale_factor\",1.0,SCALEUNIT[\"Unity\",1.0]],PARAMETER[\"latitude_of_origin\",4.596200416666665,ANGLEUNIT[\"Degree\",0.0174532925199433]]],CS[Cartesian,2],AXIS[\"Easting (X)\",east,ORDER[1]],AXIS[\"Northing (Y)\",north,ORDER[2]],LENGTHUNIT[\"Meter\",1.0]]",
   "wkt": "PROJCS[\"Marco_Geocentrico_Nacional_de_Referencia_Transverse_Mercator\",GEOGCS[\"GCS_Marco_Geocentrico_Nacional_de_Referencia\",DATUM[\"D_Marco_Geocentrico_Nacional_de_Referencia\",SPHEROID[\"GRS_1980\",6378137.0,298.257222101]],PRIMEM[\"Greenwich\",0.0],UNIT[\"Degree\",0.0174532925199433]],PROJECTION[\"Transverse_Mercator\"],PARAMETER[\"false_easting\",1000000.0],PARAMETER[\"false_northing\",1000000.0],PARAMETER[\"central_meridian\",-74.07750791666668],PARAMETER[\"scale_factor\",1.0],PARAMETER[\"latitude_of_origin\",4.596200416666665],UNIT[\"Meter\",1.0]]"
  }
 },
 "fullExtent": {
  "xmin": 439928.90392482694,
  "ymin": 18386.04773394228,
  "xmax": 1828490.7422625686,
  "ymax": 1883097.1312204509,
  "spatialReference": {
   "wkt2": "PROJCRS[\"Marco_Geocentrico_Nacional_de_Referencia_Transverse_Mercator\",BASEGEOGCRS[\"GCS_Marco_Geocentrico_Nacional_de_Referencia\",DATUM[\"D_Marco_Geocentrico_Nacional_de_Referencia\",ELLIPSOID[\"GRS_1980\",6378137.0,298.257222101,LENGTHUNIT[\"Meter\",1.0]]],PRIMEM[\"Greenwich\",0.0,ANGLEUNIT[\"Degree\",0.0174532925199433]],CS[ellipsoidal,2],ANGLEUNIT[\"Degree\",0.0174532925199433]],CONVERSION[\"Transverse_Mercator\",METHOD[\"Transverse_Mercator\"],PARAMETER[\"false_easting\",1000000.0,LENGTHUNIT[\"Meter\",1.0]],PARAMETER[\"false_northing\",1000000.0,LENGTHUNIT[\"Meter\",1.0]],PARAMETER[\"central_meridian\",-74.07750791666668,ANGLEUNIT[\"Degree\",0.0174532925199433]],PARAMETER[\"scale_factor\",1.0,SCALEUNIT[\"Unity\",1.0]],PARAMETER[\"latitude_of_origin\",4.596200416666665,ANGLEUNIT[\"Degree\",0.0174532925199433]]],CS[Cartesian,2],AXIS[\"Easting (X)\",east,ORDER[1]],AXIS[\"Northing (Y)\",north,ORDER[2]],LENGTHUNIT[\"Meter\",1.0]]",
   "wkt": "PROJCS[\"Marco_Geocentrico_Nacional_de_Referencia_Transverse_Mercator\",GEOGCS[\"GCS_Marco_Geocentrico_Nacional_de_Referencia\",DATUM[\"D_Marco_Geocentrico_Nacional_de_Referencia\",SPHEROID[\"GRS_1980\",6378137.0,298.257222101]],PRIMEM[\"Greenwich\",0.0],UNIT[\"Degree\",0.0174532925199433]],PROJECTION[\"Transverse_Mercator\"],PARAMETER[\"false_easting\",1000000.0],PARAMETER[\"false_northing\",1000000.0],PARAMETER[\"central_meridian\",-74.07750791666668],PARAMETER[\"scale_factor\",1.0],PARAMETER[\"latitude_of_origin\",4.596200416666665],UNIT[\"Meter\",1.0]]"
  }
 },
 "sortableFields": "",
 "bandCount": 1,
 "pixelType": "U2",
 "minValues": [
  1
 ],
 "maxValues": [
  3
 ],
 "meanValues": [
  1.4767658946132207
 ],
 "stdvValues": [
  0.5002255324644588
 ],
 "hasMultidimensions": false,
 "pixelSizeX": 30.2624409017902,
 "pixelSizeY": 30.2624409017902,
 "meanPixelSize": 30.2624409017902,
 "datasetFormat": "Cache/LERC2D",
 "uncompressedSize": 706820078,
 "blockWidth": 256,
 "blockHeight": 256,
 "compressionType": "LERC2D",
 "bandNames": [
  "Band_1"
 ],
 "allowCopy": true,
 "allowAnalysis": true,
 "itemAccess": false,
 "inspectionCapabilities": "",
 "noDataValue": 0,
 "noDataValues": [
  0
 ],
 "minPixelSize": 0,
 "maxPixelSize": 0,
 "copyrightText": "",
 "serviceDataType": "esriImageServiceDataTypeThematic",
 "serviceSourceType": "esriImageServiceSourceTypeDataset",
 "objectIdField": "",
 "fields": [],
 "capabilities": "Image,Mensuration,Metadata",
 "defaultMosaicMethod": "Center",
 "allowedMosaicMethods": "",
 "sortField": "",
 "sortValue": null,
 "sortAscending": true,
 "mosaicOperator": "First",
 "defaultCompressionQuality": 75,
 "defaultResamplingMethod": "Nearest",
 "maxImageHeight": 4100,
 "maxImageWidth": 15000,
 "singleFusedMapCache": true,
 "tileInfo": {
  "rows": 256,
  "cols": 256,
  "dpi": 96,
  "format": "LERC2D",
  "compressionQuality": 100000,
  "lercError": 0.1,
  "origin": {
   "x": 439928.90392482694,
   "y": 1883097.1312204509
  },
  "spatialReference": {
   "wkt2": "PROJCRS[\"Marco_Geocentrico_Nacional_de_Referencia_Transverse_Mercator\",BASEGEOGCRS[\"GCS_Marco_Geocentrico_Nacional_de_Referencia\",DATUM[\"D_Marco_Geocentrico_Nacional_de_Referencia\",ELLIPSOID[\"GRS_1980\",6378137.0,298.257222101,LENGTHUNIT[\"Meter\",1.0]]],PRIMEM[\"Greenwich\",0.0,ANGLEUNIT[\"Degree\",0.0174532925199433]],CS[ellipsoidal,2],ANGLEUNIT[\"Degree\",0.0174532925199433]],CONVERSION[\"Transverse_Mercator\",METHOD[\"Transverse_Mercator\"],PARAMETER[\"false_easting\",1000000.0,LENGTHUNIT[\"Meter\",1.0]],PARAMETER[\"false_northing\",1000000.0,LENGTHUNIT[\"Meter\",1.0]],PARAMETER[\"central_meridian\",-74.07750791666668,ANGLEUNIT[\"Degree\",0.0174532925199433]],PARAMETER[\"scale_factor\",1.0,SCALEUNIT[\"Unity\",1.0]],PARAMETER[\"latitude_of_origin\",4.596200416666665,ANGLEUNIT[\"Degree\",0.0174532925199433]]],CS[Cartesian,2],AXIS[\"Easting (X)\",east,ORDER[1]],AXIS[\"Northing (Y)\",north,ORDER[2]],LENGTHUNIT[\"Meter\",1.0]]",
   "wkt": "PROJCS[\"Marco_Geocentrico_Nacional_de_Referencia_Transverse_Mercator\",GEOGCS[\"GCS_Marco_Geocentrico_Nacional_de_Referencia\",DATUM[\"D_Marco_Geocentrico_Nacional_de_Referencia\",SPHEROID[\"GRS_1980\",6378137.0,298.257222101]],PRIMEM[\"Greenwich\",0.0],UNIT[\"Degree\",0.0174532925199433]],PROJECTION[\"Transverse_Mercator\"],PARAMETER[\"false_easting\",1000000.0],PARAMETER[\"false_northing\",1000000.0],PARAMETER[\"central_meridian\",-74.07750791666668],PARAMETER[\"scale_factor\",1.0],PARAMETER[\"latitude_of_origin\",4.596200416666665],UNIT[\"Meter\",1.0]]"
  },
  "lods": [
   {
    "level": 0,
    "resolution": 7747.184870858291,
    "scale": 2.9280640163106326E7
   },
   {
    "level": 1,
    "resolution": 3873.5924354291456,
    "scale": 1.4640320081553163E7
   },
   {
    "level": 2,
    "resolution": 1936.7962177145728,
    "scale": 7320160.0407765815
   },
   {
    "level": 3,
    "resolution": 968.3981088572864,
    "scale": 3660080.0203882908
   },
   {
    "level": 4,
    "resolution": 484.1990544286432,
    "scale": 1830040.0101941454
   },
   {
    "level": 5,
    "resolution": 242.0995272143216,
    "scale": 915020.0050970727
   },
   {
    "level": 6,
    "resolution": 121.0497636071608,
    "scale": 457510.00254853634
   },
   {
    "level": 7,
    "resolution": 60.5248818035804,
    "scale": 228755.00127426817
   },
   {
    "level": 8,
    "resolution": 30.2624409017902,
    "scale": 114377.50063713409
   }
  ]
 },
 "storageInfo": {
  "storageFormat": "esriMapCacheStorageModeCompactV2",
  "packetSize": 16
 },
 "cacheType": "Raster",
 "allowRasterFunction": true,
 "rasterFunctionInfos": [
  {
   "name": "None",
   "description": "",
   "help": ""
  }
 ],
 "rasterTypeInfos": [
  {
   "name": "Raster Dataset",
   "description": "Supports all ArcGIS Raster Datasets",
   "help": ""
  }
 ],
 "mensurationCapabilities": "Basic",
 "hasHistograms": true,
 "hasColormap": true,
 "hasRasterAttributeTable": true,
 "minScale": 0,
 "maxScale": 0,
 "exportTilesAllowed": false,
 "supportsStatistics": false,
 "supportsAdvancedQueries": false,
 "editFieldsInfo": null,
 "ownershipBasedAccessControlForRasters": null,
 "allowComputeTiePoints": false,
 "useStandardizedQueries": true,
 "advancedQueryCapabilities": {
  "useStandardizedQueries": true,
  "supportsStatistics": false,
  "supportsOrderBy": false,
  "supportsDistinct": false,
  "supportsPagination": false
 },
 "spatialReference": {
  "wkt2": "PROJCRS[\"Marco_Geocentrico_Nacional_de_Referencia_Transverse_Mercator\",BASEGEOGCRS[\"GCS_Marco_Geocentrico_Nacional_de_Referencia\",DATUM[\"D_Marco_Geocentrico_Nacional_de_Referencia\",ELLIPSOID[\"GRS_1980\",6378137.0,298.257222101,LENGTHUNIT[\"Meter\",1.0]]],PRIMEM[\"Greenwich\",0.0,ANGLEUNIT[\"Degree\",0.0174532925199433]],CS[ellipsoidal,2],ANGLEUNIT[\"Degree\",0.0174532925199433]],CONVERSION[\"Transverse_Mercator\",METHOD[\"Transverse_Mercator\"],PARAMETER[\"false_easting\",1000000.0,LENGTHUNIT[\"Meter\",1.0]],PARAMETER[\"false_northing\",1000000.0,LENGTHUNIT[\"Meter\",1.0]],PARAMETER[\"central_meridian\",-74.07750791666668,ANGLEUNIT[\"Degree\",0.0174532925199433]],PARAMETER[\"scale_factor\",1.0,SCALEUNIT[\"Unity\",1.0]],PARAMETER[\"latitude_of_origin\",4.596200416666665,ANGLEUNIT[\"Degree\",0.0174532925199433]]],CS[Cartesian,2],AXIS[\"Easting (X)\",east,ORDER[1]],AXIS[\"Northing (Y)\",north,ORDER[2]],LENGTHUNIT[\"Meter\",1.0]]",
  "wkt": "PROJCS[\"Marco_Geocentrico_Nacional_de_Referencia_Transverse_Mercator\",GEOGCS[\"GCS_Marco_Geocentrico_Nacional_de_Referencia\",DATUM[\"D_Marco_Geocentrico_Nacional_de_Referencia\",SPHEROID[\"GRS_1980\",6378137.0,298.257222101]],PRIMEM[\"Greenwich\",0.0],UNIT[\"Degree\",0.0174532925199433]],PROJECTION[\"Transverse_Mercator\"],PARAMETER[\"false_easting\",1000000.0],PARAMETER[\"false_northing\",1000000.0],PARAMETER[\"central_meridian\",-74.07750791666668],PARAMETER[\"scale_factor\",1.0],PARAMETER[\"latitude_of_origin\",4.596200416666665],UNIT[\"Meter\",1.0]]"
 }
}
